BEGIN:VCALENDAR
VERSION:2.0
PRODID:-//H+T Rennbahn-Treff - ECPv6.15.17.1//NONSGML v1.0//EN
CALSCALE:GREGORIAN
METHOD:PUBLISH
X-ORIGINAL-URL:https://www.rennbahn-treff.de
X-WR-CALDESC:Veranstaltungen für H+T Rennbahn-Treff
REFRESH-INTERVAL;VALUE=DURATION:PT1H
X-Robots-Tag:noindex
X-PUBLISHED-TTL:PT1H
BEGIN:VTIMEZONE
TZID:Europe/Berlin
BEGIN:DAYLIGHT
TZOFFSETFROM:+0100
TZOFFSETTO:+0200
TZNAME:CEST
DTSTART:20210328T010000
END:DAYLIGHT
BEGIN:STANDARD
TZOFFSETFROM:+0200
TZOFFSETTO:+0100
TZNAME:CET
DTSTART:20211031T010000
END:STANDARD
BEGIN:DAYLIGHT
TZOFFSETFROM:+0100
TZOFFSETTO:+0200
TZNAME:CEST
DTSTART:20220327T010000
END:DAYLIGHT
BEGIN:STANDARD
TZOFFSETFROM:+0200
TZOFFSETTO:+0100
TZNAME:CET
DTSTART:20221030T010000
END:STANDARD
BEGIN:DAYLIGHT
TZOFFSETFROM:+0100
TZOFFSETTO:+0200
TZNAME:CEST
DTSTART:20230326T010000
END:DAYLIGHT
BEGIN:STANDARD
TZOFFSETFROM:+0200
TZOFFSETTO:+0100
TZNAME:CET
DTSTART:20231029T010000
END:STANDARD
BEGIN:DAYLIGHT
TZOFFSETFROM:+0100
TZOFFSETTO:+0200
TZNAME:CEST
DTSTART:20240331T010000
END:DAYLIGHT
BEGIN:STANDARD
TZOFFSETFROM:+0200
TZOFFSETTO:+0100
TZNAME:CET
DTSTART:20241027T010000
END:STANDARD
BEGIN:DAYLIGHT
TZOFFSETFROM:+0100
TZOFFSETTO:+0200
TZNAME:CEST
DTSTART:20250330T010000
END:DAYLIGHT
BEGIN:STANDARD
TZOFFSETFROM:+0200
TZOFFSETTO:+0100
TZNAME:CET
DTSTART:20251026T010000
END:STANDARD
BEGIN:DAYLIGHT
TZOFFSETFROM:+0100
TZOFFSETTO:+0200
TZNAME:CEST
DTSTART:20260329T010000
END:DAYLIGHT
BEGIN:STANDARD
TZOFFSETFROM:+0200
TZOFFSETTO:+0100
TZNAME:CET
DTSTART:20261025T010000
END:STANDARD
END:VTIMEZONE
BEGIN:VEVENT
DTSTART;VALUE=DATE:20250912
DTEND;VALUE=DATE:20250914
DTSTAMP:20260419T152211
CREATED:20241114T092745Z
LAST-MODIFIED:20250828T123026Z
UID:1729-1757635200-1757807999@www.rennbahn-treff.de
SUMMARY:DEUTSCHLANDCUP Deutsche Meisterschaft Scaleauto 1:24
DESCRIPTION:Die Teilnahme kannst du mittels Online-Anmeldung buchen.\nYou can book your participation by registering online via Online-Anmeldung. \nBITTE BEACHTEN: Das Formular zur Online-Anmeldung befindet sich auf dieser Seite unter diesem Text\, und ist nur so lange sichtbar\, wie die Anmeldung möglich ist. Vorher und nachher ist das Formular nicht verfügbar.\nPLEASE NOTE: The online registration form is located below this text on this page and is only visible as long as registration is possible. Before and after the form is not available.
URL:https://www.rennbahn-treff.de/event/deutschlandcup-deutsche-meisterschaft-scaleauto-124/
LOCATION:H+T Rennbahn-Treff\, Falltorstr. 45\, Darmstadt-Wixhausen\, Hessen\, 64291\, Deutschland
CATEGORIES:1:24,Rennen
END:VEVENT
BEGIN:VEVENT
DTSTART;VALUE=DATE:20250613
DTEND;VALUE=DATE:20250615
DTSTAMP:20260419T152211
CREATED:20241114T092709Z
LAST-MODIFIED:20250602T060343Z
UID:1727-1749772800-1749945599@www.rennbahn-treff.de
SUMMARY:GERMAN MASTERS Deutsche Meisterschaft BRM 1:24
DESCRIPTION:Die Teilnahme kannst du mittels Online-Anmeldung buchen.\nYou can book your participation by registering online via Online-Anmeldung. \nBITTE BEACHTEN: Das Formular zur Online-Anmeldung befindet sich auf dieser Seite unter diesem Text\, und ist nur so lange sichtbar\, wie die Anmeldung möglich ist. Vorher und nachher ist das Formular nicht verfügbar.\nPLEASE NOTE: The online registration form is located below this text on this page and is only visible as long as registration is possible. Before and after the form is not available.
URL:https://www.rennbahn-treff.de/event/german-masters-deutsche-meisterschaft-brm-124-2/
LOCATION:H+T Rennbahn-Treff\, Falltorstr. 45\, Darmstadt-Wixhausen\, Hessen\, 64291\, Deutschland
CATEGORIES:1:24,Rennen
END:VEVENT
BEGIN:VEVENT
DTSTART;VALUE=DATE:20250409
DTEND;VALUE=DATE:20250410
DTSTAMP:20260419T152211
CREATED:20241106T082216Z
LAST-MODIFIED:20241106T082216Z
UID:1724-1744156800-1744243199@www.rennbahn-treff.de
SUMMARY:REVOSLOT Rennen Cup-Serie 1:32
DESCRIPTION:
URL:https://www.rennbahn-treff.de/event/revoslot-rennen-cup-serie-132/
LOCATION:H+T Rennbahn-Treff\, Falltorstr. 45\, Darmstadt-Wixhausen\, Hessen\, 64291\, Deutschland
CATEGORIES:1:32,Rennen
END:VEVENT
BEGIN:VEVENT
DTSTART;VALUE=DATE:20250405
DTEND;VALUE=DATE:20250406
DTSTAMP:20260419T152211
CREATED:20241120T143209Z
LAST-MODIFIED:20241120T143209Z
UID:1731-1743811200-1743897599@www.rennbahn-treff.de
SUMMARY:SLP-CUP Rennen Mitte und Süd-West PLAFIT 1:24
DESCRIPTION:
URL:https://www.rennbahn-treff.de/event/slp-cup-rennen-mitte-und-sued-west-plafit-124/
LOCATION:H+T Rennbahn-Treff\, Falltorstr. 45\, Darmstadt-Wixhausen\, Hessen\, 64291\, Deutschland
CATEGORIES:1:24,Rennen
END:VEVENT
BEGIN:VEVENT
DTSTART;VALUE=DATE:20241109
DTEND;VALUE=DATE:20241110
DTSTAMP:20260419T152211
CREATED:20231110T115825Z
LAST-MODIFIED:20231110T115825Z
UID:1516-1731110400-1731196799@www.rennbahn-treff.de
SUMMARY:SCALEAUTO GT3-Cup-Serie
DESCRIPTION:
URL:https://www.rennbahn-treff.de/event/scaleauto-gt3-cup-serie/
LOCATION:H+T Rennbahn-Treff\, Falltorstr. 45\, Darmstadt-Wixhausen\, Hessen\, 64291\, Deutschland
CATEGORIES:1:24,Rennen
END:VEVENT
BEGIN:VEVENT
DTSTART;VALUE=DATE:20240913
DTEND;VALUE=DATE:20240915
DTSTAMP:20260419T152211
CREATED:20231110T115731Z
LAST-MODIFIED:20240909T064051Z
UID:1514-1726185600-1726358399@www.rennbahn-treff.de
SUMMARY:DEUTSCHLANDCUP - Deutsche Meisterschaft SCALEAUTO GT3
DESCRIPTION:Die Teilnahme kannst du mittels Online-Anmeldung buchen.\nYou can book your participation by registering online via Online-Anmeldung. \nBITTE BEACHTEN: Das Formular zur Online-Anmeldung befindet sich auf dieser Seite unter diesem Text\, und ist nur so lange sichtbar\, wie die Anmeldung möglich ist. Vorher und nachher ist das Formular nicht verfügbar.\nPLEASE NOTE: The online registration form is located below this text on this page and is only visible as long as registration is possible. Before and after the form is not available.
URL:https://www.rennbahn-treff.de/event/deutschlandcup-deutsche-meisterschaft-scaleauto-gt3/
LOCATION:H+T Rennbahn-Treff\, Falltorstr. 45\, Darmstadt-Wixhausen\, Hessen\, 64291\, Deutschland
CATEGORIES:1:24,Rennen
END:VEVENT
BEGIN:VEVENT
DTSTART;VALUE=DATE:20240607
DTEND;VALUE=DATE:20240609
DTSTAMP:20260419T152211
CREATED:20231110T115622Z
LAST-MODIFIED:20240427T104521Z
UID:1512-1717718400-1717891199@www.rennbahn-treff.de
SUMMARY:GERMAN MASTERS - Deutsche Meisterschaft BRM Youngtimer
DESCRIPTION:Die Teilnahme kannst du mittels Online-Anmeldung buchen.\nYou can book your participation by registering online via Online-Anmeldung. \nBITTE BEACHTEN: Das Formular zur Online-Anmeldung befindet sich auf dieser Seite unter diesem Text\, und ist nur so lange sichtbar\, wie die Anmeldung möglich ist. Vorher und nachher ist das Formular nicht verfügbar.\nPLEASE NOTE: The online registration form is located below this text on this page and is only visible as long as registration is possible. Before and after the form is not available.
URL:https://www.rennbahn-treff.de/event/german-masters-deutsche-meisterschaft-brm-youngtimer/
LOCATION:H+T Rennbahn-Treff\, Falltorstr. 45\, Darmstadt-Wixhausen\, Hessen\, 64291\, Deutschland
CATEGORIES:1:24,Rennen
END:VEVENT
BEGIN:VEVENT
DTSTART;VALUE=DATE:20240410
DTEND;VALUE=DATE:20240411
DTSTAMP:20260419T152211
CREATED:20231127T124307Z
LAST-MODIFIED:20231127T124307Z
UID:1518-1712707200-1712793599@www.rennbahn-treff.de
SUMMARY:REVOSLOT Rennen
DESCRIPTION:
URL:https://www.rennbahn-treff.de/event/revoslot-rennen/
LOCATION:H+T Rennbahn-Treff\, Falltorstr. 45\, Darmstadt-Wixhausen\, Hessen\, 64291\, Deutschland
CATEGORIES:1:32,Rennen
END:VEVENT
BEGIN:VEVENT
DTSTART;VALUE=DATE:20240302
DTEND;VALUE=DATE:20240303
DTSTAMP:20260419T152211
CREATED:20231110T115441Z
LAST-MODIFIED:20231110T115441Z
UID:1510-1709337600-1709423999@www.rennbahn-treff.de
SUMMARY:PLAFIT SLP-Cup-Mitte
DESCRIPTION:
URL:https://www.rennbahn-treff.de/event/plafit-slp-cup-mitte/
LOCATION:H+T Rennbahn-Treff\, Falltorstr. 45\, Darmstadt-Wixhausen\, Hessen\, 64291\, Deutschland
CATEGORIES:1:24,Rennen
END:VEVENT
BEGIN:VEVENT
DTSTART;VALUE=DATE:20231111
DTEND;VALUE=DATE:20231112
DTSTAMP:20260419T152211
CREATED:20230127T150713Z
LAST-MODIFIED:20230228T172107Z
UID:1081-1699660800-1699747199@www.rennbahn-treff.de
SUMMARY:Scaleauto-GT3-Cup
DESCRIPTION:Rennen Scaleauto-GT3-Cup am 11.11.2023 Wettbewerbsaustragung. Für SCALEAUTO Slotcars im Maßstab 1:24. \n\n\n\nCompetition racing. For 1:24 scale SCALEAUTO slot cars. \n\n\n\nBITTE BEACHTEN: Die Anmeldung zur Teilnahme ist ab sofort über die Ansprechpartner (siehe Veranstaltungsinformation) möglich. \n\n\n\nRegistration for participation is now possible via the contact person (see event information). \n\n\n\nVeranstaltungsinformation als Download ab sofort auf der Infoseite >> \n\n\n\nEvent information available for download now on the info page >> \n\n\n\n OHNE ONLINE-ANMELDUNG
URL:https://www.rennbahn-treff.de/event/rennen-scaleauto-gt3-cup/
LOCATION:H+T Rennbahn-Treff\, Falltorstr. 45\, Darmstadt-Wixhausen\, Hessen\, 64291\, Deutschland
CATEGORIES:1:24,Diverse,Rennen
END:VEVENT
BEGIN:VEVENT
DTSTART;VALUE=DATE:20230915
DTEND;VALUE=DATE:20230917
DTSTAMP:20260419T152211
CREATED:20230806T085252Z
LAST-MODIFIED:20230824T072543Z
UID:1470-1694736000-1694908799@www.rennbahn-treff.de
SUMMARY:Deutsche Meisterschaft DEUTSCHLANDCUP
DESCRIPTION:Die Teilnahme kannst du mittels Online-Anmeldung buchen.\nYou can book your participation by registering online via Online-Anmeldung. \nBITTE BEACHTEN: Das Formular zur Online-Anmeldung befindet sich auf dieser Seite unter diesem Text\, und ist nur so lange sichtbar\, wie die Anmeldung möglich ist. Vorher und nachher ist das Formular nicht verfügbar.\nPLEASE NOTE: The online registration form is located below this text on this page and is only visible as long as registration is possible. Before and after the form is not available.
URL:https://www.rennbahn-treff.de/event/deutsche-meisterschaft-deutschlandcup-am-15-16-09-2023/
LOCATION:H+T Rennbahn-Treff\, Falltorstr. 45\, Darmstadt-Wixhausen\, Hessen\, 64291\, Deutschland
CATEGORIES:1:24,Rennen
END:VEVENT
BEGIN:VEVENT
DTSTART;VALUE=DATE:20230708
DTEND;VALUE=DATE:20230709
DTSTAMP:20260419T152211
CREATED:20230228T161229Z
LAST-MODIFIED:20230228T172429Z
UID:1234-1688774400-1688860799@www.rennbahn-treff.de
SUMMARY:Truck Race
DESCRIPTION:Rennen Truck Race am 08.07.2023 \nWettbewerbsaustragung. Für FLY Slotcar-Trucks im Maßstab 1:32. \n\n\n\nCompetition racing. For 1:32 scale FLY slot cars trucks. \n\n\n\nBITTE BEACHTEN: Die Anmeldung zur Teilnahme ist ab sofort über die Ansprechpartner (siehe Veranstaltungsinformation) möglich. \n\n\n\nRegistration for participation is now possible via the contact person (see event information). \n\n\n\nVeranstaltungsinformation als Download ab sofort auf der Infoseite >> \n\n\n\nEvent information available for download now on the info page >> \n\n\n\nOHNE ONLINE-ANMELDUNG
URL:https://www.rennbahn-treff.de/event/truck-race/
LOCATION:H+T Rennbahn-Treff\, Falltorstr. 45\, Darmstadt-Wixhausen\, Hessen\, 64291\, Deutschland
CATEGORIES:1:32,Diverse,Rennen
END:VEVENT
BEGIN:VEVENT
DTSTART;VALUE=DATE:20230624
DTEND;VALUE=DATE:20230625
DTSTAMP:20260419T152211
CREATED:20230228T161007Z
LAST-MODIFIED:20230228T172344Z
UID:1232-1687564800-1687651199@www.rennbahn-treff.de
SUMMARY:Tourenwagen Trophy
DESCRIPTION:Rennen Tourenwagen Trophy am 24.06.2023 \nWettbewerbsaustragung. Für BRM- und TTS-Slotcars im Maßstab 1:24 \nCompetition racing. For 1:24 scale BRM an TTS slot cars. \n \nBITTE BEACHTEN: Die Anmeldung zur Teilnahme ist ab sofort über die Ansprechpartner (siehe Veranstaltungsinformation) möglich. \nRegistration for participation is now possible via the contact person (see event information). \n \nVeranstaltungsinformation als Download ab sofort auf der Infoseite >> \nEvent information available for download now on the info page >> \n \nOHNE ONLINE-ANMELDUNG
URL:https://www.rennbahn-treff.de/event/tourenwagen-trophy/
LOCATION:H+T Rennbahn-Treff\, Falltorstr. 45\, Darmstadt-Wixhausen\, Hessen\, 64291\, Deutschland
CATEGORIES:1:24,Diverse,Rennen
END:VEVENT
BEGIN:VEVENT
DTSTART;VALUE=DATE:20230602
DTEND;VALUE=DATE:20230604
DTSTAMP:20260419T152211
CREATED:20221208T120759Z
LAST-MODIFIED:20230421T065833Z
UID:996-1685664000-1685836799@www.rennbahn-treff.de
SUMMARY:Deutsche Meisterschaft GERMAN MASTERS
DESCRIPTION:Die Teilnahme kannst du mittels Online-Anmeldung buchen.\nYou can book your participation by registering online via Online-Anmeldung. \nBITTE BEACHTEN: Das Formular zur Online-Anmeldung befindet sich auf dieser Seite unter diesem Text\, und ist nur so lange sichtbar\, wie die Anmeldung möglich ist. Vorher und nachher ist das Formular nicht verfügbar.\nPLEASE NOTE: The online registration form is located below this text on this page and is only visible as long as registration is possible. Before and after the form is not available.
URL:https://www.rennbahn-treff.de/event/meisterschaft-german-masters/
LOCATION:H+T Rennbahn-Treff\, Falltorstr. 45\, Darmstadt-Wixhausen\, Hessen\, 64291\, Deutschland
END:VEVENT
BEGIN:VEVENT
DTSTART;VALUE=DATE:20230419
DTEND;VALUE=DATE:20230420
DTSTAMP:20260419T152211
CREATED:20230228T160715Z
LAST-MODIFIED:20230228T172251Z
UID:1230-1681862400-1681948799@www.rennbahn-treff.de
SUMMARY:Revoslot Cup
DESCRIPTION:Rennen Revolsot Cup am 19.04.2023 \nWettbewerbsaustragung. Für REVOSLOT-Slotcars im Maßstab 1:32. \nCompetition racing. For 1:32 scale REVOSLOT slot cars. \n  \nBITTE BEACHTEN: Die Anmeldung zur Teilnahme ist ab sofort über die Ansprechpartner (siehe Veranstaltungsinformation) möglich. \nRegistration for participation is now possible via the contact person (see event information). \n  \nVeranstaltungsinformation als Download ab sofort auf der Infoseite >> \nEvent information available for download now on the info page >> \n\nOHNE ONLINE-ANMELDUNG
URL:https://www.rennbahn-treff.de/event/revoslot-cup/
LOCATION:H+T Rennbahn-Treff\, Falltorstr. 45\, Darmstadt-Wixhausen\, Hessen\, 64291\, Deutschland
CATEGORIES:1:32,Diverse,Rennen
END:VEVENT
BEGIN:VEVENT
DTSTART;VALUE=DATE:20230414
DTEND;VALUE=DATE:20230415
DTSTAMP:20260419T152211
CREATED:20230228T160417Z
LAST-MODIFIED:20230228T172213Z
UID:1228-1681430400-1681516799@www.rennbahn-treff.de
SUMMARY:Mini-Z
DESCRIPTION:Rennen Mini-Z am 14.04.2023 \nWettbewerbsaustragung. Für Mini-Z-Slotcars im Maßstab 1:28.\nCompetition racing. For 1:28 scale Mini-Z slot cars.  \nBITTE BEACHTEN: Die Anmeldung zur Teilnahme ist ab sofort\nüber die Ansprechpartner (siehe Veranstaltungsinformation)\nmöglich.\nRegistration for participation is now possible via the contact person\n(see event information). \nVeranstaltungsinformation als Download ab sofort auf der Infoseite >>\nEvent information available for download now on the info page >> \nOHNE ONLINE-ANMELDUNG
URL:https://www.rennbahn-treff.de/event/mini-z/
LOCATION:H+T Rennbahn-Treff\, Falltorstr. 45\, Darmstadt-Wixhausen\, Hessen\, 64291\, Deutschland
CATEGORIES:1:28,Diverse,Rennen
END:VEVENT
BEGIN:VEVENT
DTSTART;VALUE=DATE:20230412
DTEND;VALUE=DATE:20230413
DTSTAMP:20260419T152211
CREATED:20230127T150548Z
LAST-MODIFIED:20230228T160015Z
UID:1079-1681257600-1681343999@www.rennbahn-treff.de
SUMMARY:Rennbahn-Treff Extra
DESCRIPTION:Treffen & Fahren. Für Vintage-Slotcars im Maßstab 1:24.\nMeet & Drive. For 1:24 scale vintage slot cars. \nDie Teilnahme kannst du mittels Online-Anmeldung buchen.\nYou can book your participation by registering online via Online-Anmeldung. \nBITTE BEACHTEN: Das Formular zur Online-Anmeldung befindet sich auf dieser Seite unter diesem Text\, und ist nur so lange sichtbar\, wie die Anmeldung möglich ist. Vorher und nachher ist das Formular nicht verfügbar.\nPLEASE NOTE: The online registration form is located below this text on this page and is only visible as long as registration is possible. Before and after the form is not available.
URL:https://www.rennbahn-treff.de/event/rennbahn-treff-extra-fuer-vintage-slotcars/
LOCATION:H+T Rennbahn-Treff\, Falltorstr. 45\, Darmstadt-Wixhausen\, Hessen\, 64291\, Deutschland
CATEGORIES:1:24,Rennbahntreff
END:VEVENT
BEGIN:VEVENT
DTSTART;VALUE=DATE:20230325
DTEND;VALUE=DATE:20230326
DTSTAMP:20260419T152211
CREATED:20221208T120716Z
LAST-MODIFIED:20230228T155956Z
UID:994-1679702400-1679788799@www.rennbahn-treff.de
SUMMARY:MAGNET MANIA
DESCRIPTION:Die Teilnahme kannst du mittels Online-Anmeldung buchen.\nYou can book your participation by registering online via Online-Anmeldung. \nBITTE BEACHTEN: Das Formular zur Online-Anmeldung befindet sich auf dieser Seite unter diesem Text\, und ist nur so lange sichtbar\, wie die Anmeldung möglich ist. Vorher und nachher ist das Formular nicht verfügbar.\nPLEASE NOTE: The online registration form is located below this text on this page and is only visible as long as registration is possible. Before and after the form is not available.
URL:https://www.rennbahn-treff.de/event/meisterschaft-magnet-mania/
LOCATION:H+T Rennbahn-Treff\, Falltorstr. 45\, Darmstadt-Wixhausen\, Hessen\, 64291\, Deutschland
END:VEVENT
BEGIN:VEVENT
DTSTART;VALUE=DATE:20230311
DTEND;VALUE=DATE:20230312
DTSTAMP:20260419T152211
CREATED:20230127T150349Z
LAST-MODIFIED:20230228T170521Z
UID:1077-1678492800-1678579199@www.rennbahn-treff.de
SUMMARY:SLP-Cup
DESCRIPTION:Veranstaltungsinformation als Download ab sofort auf der Infoseite für Rennen >>
URL:https://www.rennbahn-treff.de/event/rennen-slp-cup-sued-west/
LOCATION:H+T Rennbahn-Treff\, Falltorstr. 45\, Darmstadt-Wixhausen\, Hessen\, 64291\, Deutschland
CATEGORIES:1:24,Diverse,Rennen
END:VEVENT
BEGIN:VEVENT
DTSTART;VALUE=DATE:20230225
DTEND;VALUE=DATE:20230226
DTSTAMP:20260419T152211
CREATED:20221208T120604Z
LAST-MODIFIED:20230219T134031Z
UID:992-1677283200-1677369599@www.rennbahn-treff.de
SUMMARY:Treffen & Testfahrten High Speed Slotcars
DESCRIPTION:Test- und Einstellfahrten für Magnet-Slotcars im Maßstab 1:32. Die Teilnahme kannst du mittels Online-Anmeldung buchen. \nTest and set-up runs for magnet slot cars in 1/32 scale. You can book your participation by registering online via Online-Anmeldung. \nBITTE BEACHTEN: Das Formular zur Online-Anmeldung befindet sich auf dieser Seite unter diesem Text\, und ist nur so lange sichtbar\, wie die Anmeldung möglich ist. Vorher und nachher ist das Formular nicht verfügbar. \nPLEASE NOTE: The online registration form is located below this text on this page and is only visible as long as registration is possible. Before and after the form is not available.
URL:https://www.rennbahn-treff.de/event/treffen-testfahrten-high-speed-slotcars/
LOCATION:H+T Rennbahn-Treff\, Falltorstr. 45\, Darmstadt-Wixhausen\, Hessen\, 64291\, Deutschland
CATEGORIES:1:32,Rennen
END:VEVENT
BEGIN:VEVENT
DTSTART;VALUE=DATE:20221021
DTEND;VALUE=DATE:20221023
DTSTAMP:20260419T152211
CREATED:20220825T072009Z
LAST-MODIFIED:20221014T120649Z
UID:861-1666310400-1666483199@www.rennbahn-treff.de
SUMMARY:DEUTSCHLANDCUP  2022
DESCRIPTION:Deutsche Meisterschaft\, offiziell ausgeschrieben für moderne GT Slotcars im Maßstab 1:24. Zur Teilnahme kannst du dich mittels Online Nennung anmelden. \nGerman Championship\, officially advertised for modern GT cars in 1/24 scale.\nYou can register to participate by registering online. \nBITTE BEACHTEN: Das Formular zur Online Nennung befindet sich auf dieser Seite unter diesem Text\, und ist nur so lange sichtbar\, wie die Anmeldung möglich ist. Vorher und nachher ist das Formular nicht verfügbar. \nPLEASE NOTE: The online entry form is located below this text on this page and is only visible as long as registration is possible. Before and after the form is not available.
URL:https://www.rennbahn-treff.de/event/deutschlandcup-2022/
LOCATION:H+T Rennbahn-Treff\, Falltorstr. 45\, Darmstadt-Wixhausen\, Hessen\, 64291\, Deutschland
CATEGORIES:1:24,Rennen
END:VEVENT
BEGIN:VEVENT
DTSTART;VALUE=DATE:20220923
DTEND;VALUE=DATE:20220925
DTSTAMP:20260419T152211
CREATED:20200104T112234Z
LAST-MODIFIED:20220823T075722Z
UID:125-1663891200-1664063999@www.rennbahn-treff.de
SUMMARY:GERMAN MASTERS
DESCRIPTION:Internationale Deutsche Meisterschaft\, offiziell ausgeschrieben für Youngtimer-Slotcars im Maßstab 1:24. Zur Teilnahme kannst du dich mittels Online Nennung anmelden. \nInternational German Championship\, officially advertised for youngtimer slot cars in 1/24 scale.\nYou can register to participate by registering online.  \nBITTE BEACHTEN: Das Formular zur Online Nennung befindet sich auf dieser Seite unter diesem Text\, und ist nur so lange sichtbar\, wie die Anmeldung möglich ist. Vorher und nachher ist das Formular nicht verfügbar. \nPLEASE NOTE: The online entry form is located below this text on this page and is only visible as long as registration is possible. Before and after the form is not available.
URL:https://www.rennbahn-treff.de/event/german-masters/
LOCATION:H+T Rennbahn-Treff\, Falltorstr. 45\, Darmstadt-Wixhausen\, Hessen\, 64291\, Deutschland
CATEGORIES:1:24,Rennen
ORGANIZER;CN="H+T Motor Racing GmbH":MAILTO:info@ht-motorracing.com
END:VEVENT
BEGIN:VEVENT
DTSTART;VALUE=DATE:20220902
DTEND;VALUE=DATE:20220904
DTSTAMP:20260419T152211
CREATED:20220713T125203Z
LAST-MODIFIED:20220901T072214Z
UID:810-1662076800-1662249599@www.rennbahn-treff.de
SUMMARY:MAGNET MANIA 2022
DESCRIPTION:Deutsche Meisterschaft\, offiziell ausgeschrieben für Magnet-Slotcars im Maßstab 1:32. Zur Teilnahme kannst du dich mittels Online Nennung anmelden. \nGerman Championship\, officially advertised for magnet slot cars in 1/32 scale.\nYou can register to participate by registering online. \nBITTE BEACHTEN: Das Formular zur Online Nennung befindet sich auf dieser Seite unter diesem Text\, und ist nur so lange sichtbar\, wie die Anmeldung möglich ist. Vorher und nachher ist das Formular nicht verfügbar. \nPLEASE NOTE: The online entry form is located below this text on this page and is only visible as long as registration is possible. Before and after the form is not available.
URL:https://www.rennbahn-treff.de/event/magnet-mania-2022/
LOCATION:H+T Rennbahn-Treff\, Falltorstr. 45\, Darmstadt-Wixhausen\, Hessen\, 64291\, Deutschland
CATEGORIES:1:32,Rennen
ORGANIZER;CN="H+T Motor Racing GmbH":MAILTO:info@ht-motorracing.com
END:VEVENT
END:VCALENDAR